BEGIN:VCALENDAR
VERSION:2.0
PRODID:icalendar-ruby
CALSCALE:GREGORIAN
BEGIN:VEVENT
DTSTAMP:20210122T140504Z
UID:7c55e022-19eb-4875-87a5-b32c417bc0fc
DTSTART;VALUE=DATE:20200729
DESCRIPTION:Property ID# 483919\, Locatoin: 247 Cameron Road\, Tauranga (un
 less sold prior)\, Time: 1:00PM
SUMMARY:Auction for 
END:VEVENT
END:VCALENDAR
