BEGIN:VCALENDAR
VERSION:2.0
PRODID:icalendar-ruby
CALSCALE:GREGORIAN
BEGIN:VEVENT
DTSTAMP:20210121T044757Z
UID:22752035-ce22-4f07-bb0d-b34359305587
DTSTART;VALUE=DATE:20200717
DESCRIPTION:Property ID# 483507\, Time: 4:00PM
SUMMARY:Auction for 
END:VEVENT
END:VCALENDAR
