BEGIN:VCALENDAR
VERSION:2.0
PRODID:icalendar-ruby
CALSCALE:GREGORIAN
BEGIN:VEVENT
DTSTAMP:20210121T050019Z
UID:e52e1889-e73d-4150-a968-c6e8cc174b55
DTSTART;VALUE=DATE:20200708
DESCRIPTION:Property ID# 482634\, Locatoin: Auction Rooms\, 247 Cameron Roa
 d\, Tauranga. Unless sold prior\, Time: 1:00PM
SUMMARY:Auction for 
END:VEVENT
END:VCALENDAR
