BEGIN:VCALENDAR
VERSION:2.0
PRODID:icalendar-ruby
CALSCALE:GREGORIAN
BEGIN:VEVENT
DTSTAMP:20210121T045545Z
UID:1b455f99-aa48-4ff5-a627-ce607627a60d
DTSTART;VALUE=DATE:20200701
DESCRIPTION:Property ID# 482370\, Locatoin: 247 Cameron Road\, Tauranga\, T
 ime: 1:00PM
SUMMARY:Auction for 
END:VEVENT
END:VCALENDAR
