BEGIN:VCALENDAR
VERSION:2.0
PRODID:icalendar-ruby
CALSCALE:GREGORIAN
BEGIN:VEVENT
DTSTAMP:20260424T155805Z
UID:cd6baf43-974c-4652-aac6-0ae46d3d29f7
DTSTART;VALUE=DATE:20200604
DESCRIPTION:Property ID# 479716\, Locatoin: Harcourts Auction Room\, 1 Thir
 d Ave\, Tauranga (unless sold prior)\, Time: 1:00PM
SUMMARY:Auction for 
END:VEVENT
END:VCALENDAR
