BEGIN:VCALENDAR
VERSION:2.0
PRODID:icalendar-ruby
CALSCALE:GREGORIAN
BEGIN:VEVENT
DTSTAMP:20210121T044745Z
UID:0d85c9b1-7243-4272-aede-2d70d56a914f
DTSTART;VALUE=DATE:20200602
DESCRIPTION:Property ID# 477480\, Locatoin: On Site \, Time: 2:00PM
SUMMARY:Auction for 
END:VEVENT
END:VCALENDAR
