BEGIN:VCALENDAR
VERSION:2.0
PRODID:icalendar-ruby
CALSCALE:GREGORIAN
BEGIN:VEVENT
DTSTAMP:20210121T044747Z
UID:afebd5ee-f538-4a08-91eb-a8159fc3647f
DTSTART;VALUE=DATE:20200605
DESCRIPTION:Property ID# 477257\, Locatoin: In Rooms at Tremains Tauranga O
 ffice (Corner of 8th Avenue and Cameron Road) \, Time: 1:00PM
SUMMARY:Auction for 
END:VEVENT
END:VCALENDAR
