BEGIN:VCALENDAR
VERSION:2.0
PRODID:icalendar-ruby
CALSCALE:GREGORIAN
BEGIN:VEVENT
DTSTAMP:20260424T154104Z
UID:6463048c-dcb8-44bf-978c-a36a38baa2e1
DTSTART;VALUE=DATE:20200305
DESCRIPTION:Property ID# 472518\, Locatoin: In rooms\, Time: 12:00PM
SUMMARY:Auction for 
END:VEVENT
END:VCALENDAR
