BEGIN:VCALENDAR
VERSION:2.0
PRODID:icalendar-ruby
CALSCALE:GREGORIAN
BEGIN:VEVENT
DTSTAMP:20210121T045546Z
UID:14148a14-c819-451f-be15-f764ee506125
DTSTART;VALUE=DATE:20200226
DESCRIPTION:Property ID# 471769\, Locatoin: 247 Cameron Road Tauranga\, Tim
 e: 12:00PM
SUMMARY:Auction for 
END:VEVENT
END:VCALENDAR
