BEGIN:VCALENDAR
VERSION:2.0
PRODID:icalendar-ruby
CALSCALE:GREGORIAN
BEGIN:VEVENT
DTSTAMP:20210121T045528Z
UID:f7fc4300-4a91-42c3-85e2-c264b93ccea3
DTSTART;VALUE=DATE:20200227
DESCRIPTION:Property ID# 471127\, Locatoin: Auction Rooms\, 247 Cameron Roa
 d\, Tauranga\, Time: 1:00PM
SUMMARY:Auction for 
END:VEVENT
END:VCALENDAR
