BEGIN:VCALENDAR
VERSION:2.0
PRODID:icalendar-ruby
CALSCALE:GREGORIAN
BEGIN:VEVENT
DTSTAMP:20260424T134502Z
UID:cf7304df-9a36-4014-a515-8d4c3f58a55a
DTSTART;VALUE=DATE:20191121
DESCRIPTION:Property ID# 465312\, Time: 1:00PM
SUMMARY:Auction for 
END:VEVENT
END:VCALENDAR
