BEGIN:VCALENDAR
VERSION:2.0
PRODID:icalendar-ruby
CALSCALE:GREGORIAN
BEGIN:VEVENT
DTSTAMP:20210121T044748Z
UID:06235702-d823-440f-9b2c-5493f7091631
DTSTART;VALUE=DATE:20191113
DESCRIPTION:Property ID# 464058\, Locatoin: In Rooms at Tremains Tauranga \
 , Time: 1:00PM
SUMMARY:Auction for 
END:VEVENT
END:VCALENDAR
