BEGIN:VCALENDAR
VERSION:2.0
PRODID:icalendar-ruby
CALSCALE:GREGORIAN
BEGIN:VEVENT
DTSTAMP:20210121T050020Z
UID:1551d00f-5f04-47a6-979f-c387d13212cb
DTSTART;VALUE=DATE:20191030
DESCRIPTION:Property ID# 462837\, Locatoin: Bayleys Auction Rooms \, Time: 
 1:00PM
SUMMARY:Auction for 
END:VEVENT
END:VCALENDAR
