BEGIN:VCALENDAR
VERSION:2.0
PRODID:icalendar-ruby
CALSCALE:GREGORIAN
BEGIN:VEVENT
DTSTAMP:20210121T050515Z
UID:5b7dbbcf-6b55-4487-941b-ac64a43c8ecd
DTSTART;VALUE=DATE:20191016
DESCRIPTION:Property ID# 461760\, Locatoin: Ray White Auction Rooms. 5/ 9 D
 omain Road\, Papamoa.\, Time: 1:00PM
SUMMARY:Auction for 
END:VEVENT
END:VCALENDAR
