BEGIN:VCALENDAR
VERSION:2.0
PRODID:icalendar-ruby
CALSCALE:GREGORIAN
BEGIN:VEVENT
DTSTAMP:20210121T050501Z
UID:44ea6b67-a011-43cc-86df-0dd917d8a73f
DTSTART;VALUE=DATE:20190918
DESCRIPTION:Property ID# 459274\, Locatoin: Bayleys Auction Rooms \, Time: 
 1:00PM
SUMMARY:Auction for 
END:VEVENT
END:VCALENDAR
