BEGIN:VCALENDAR
VERSION:2.0
PRODID:icalendar-ruby
CALSCALE:GREGORIAN
BEGIN:VEVENT
DTSTAMP:20210121T045532Z
UID:45b11b49-ad80-4088-9fc2-bb1b2bc2cd59
DTSTART;VALUE=DATE:20190808
DESCRIPTION:Property ID# 457868\, Locatoin: EVES Auction Room: 247 Cameron 
 Road\, Tauranga (unless sold prior)	\, Time: 1:00PM
SUMMARY:Auction for 
END:VEVENT
END:VCALENDAR
